BEGIN:VCALENDAR
VERSION:2.0
PRODID:-//Sterling Hills THA - ECPv6.15.10//NONSGML v1.0//EN
CALSCALE:GREGORIAN
METHOD:PUBLISH
X-ORIGINAL-URL:https://sterlinghillstha.org
X-WR-CALDESC:Events for Sterling Hills THA
REFRESH-INTERVAL;VALUE=DURATION:PT1H
X-Robots-Tag:noindex
X-PUBLISHED-TTL:PT1H
BEGIN:VTIMEZONE
TZID:UTC
BEGIN:STANDARD
TZOFFSETFROM:+0000
TZOFFSETTO:+0000
TZNAME:UTC
DTSTART:20150101T000000
END:STANDARD
END:VTIMEZONE
BEGIN:VEVENT
DTSTART;TZID=UTC:20210101T080000
DTEND;TZID=UTC:20210101T170000
DTSTAMP:20260423T150034
CREATED:20200910T164725Z
LAST-MODIFIED:20200910T164925Z
UID:588-1609488000-1609520400@sterlinghillstha.org
SUMMARY:BNSF Arbor Line Track will open in Lincoln along HWY 2
DESCRIPTION:On January 1\, 2021\, BNSF will begin operating trains along the Arbor Line that runs through South Lincoln along Highway 2\, Bennet\, Palmyra\, Unadilla\, Syracuse\, Dunbar to Nebraska City. \nView BNSF Arbor Line Fact Sheet
URL:https://sterlinghillstha.org/event/bnsf-arbor-line-track-will-open-in-lincoln-along-hwy-2/
LOCATION:Lincoln ne
END:VEVENT
BEGIN:VEVENT
DTSTART;TZID=UTC:20200912T150000
DTEND;TZID=UTC:20200912T160000
DTSTAMP:20260423T150034
CREATED:20200911T133641Z
LAST-MODIFIED:20200911T133641Z
UID:594-1599922800-1599926400@sterlinghillstha.org
SUMMARY:HOA Board of Directors Meeting on Parking Policy\, Related Issues
DESCRIPTION:The Sterling Hills Townhome Association’s Board of Directors is meeting to review and consider updates to the Parking Policy and related documents or issues. The meeting is at 3 PM in the 35th and O’Sullivan cul-de-sac to practice social distancing.
URL:https://sterlinghillstha.org/event/hoa-board-of-directors-meeting-on-parking-policy-related-issues/
LOCATION:35th & O’Sullivan Cul-de-sac\, Lincoln\, NE 68516\, 35th & O'Sullivan\, Lincoln\, NE\, 68516\, United States
END:VEVENT
BEGIN:VEVENT
DTSTART;TZID=UTC:20181117T110000
DTEND;TZID=UTC:20181117T130000
DTSTAMP:20260423T150034
CREATED:20181102T160951Z
LAST-MODIFIED:20181102T160951Z
UID:479-1542452400-1542459600@sterlinghillstha.org
SUMMARY:2018 Annual Meeting
DESCRIPTION:2018 Annual Meeting Agenda \n  \nDATE: Saturday\, November 17\, 2018 \nMEETING TIME: 11:00 A.M. – 1:00 P.M. \nLOCATION: Horizons Community Church– The BOB  \n3200 Grainger Parkway\, Lincoln\, NE 68516
URL:https://sterlinghillstha.org/event/2018-annual-meeting/
LOCATION:Horizons Community Church — The BOB\, 3200 Grainger Parkway\, Lincoln\, NE\, 68516\, United States
END:VEVENT
BEGIN:VEVENT
DTSTART;TZID=UTC:20180523T130000
DTEND;TZID=UTC:20180523T170000
DTSTAMP:20260423T150034
CREATED:20180516T202818Z
LAST-MODIFIED:20180516T202818Z
UID:451-1527080400-1527094800@sterlinghillstha.org
SUMMARY:Change of Zone CZ06075A Notice Public Hearing
DESCRIPTION:2018-0511-Change-of-Zone
URL:https://sterlinghillstha.org/event/change-of-zone-cz06075a-notice-public-hearing/
LOCATION:Hearing Room 112\, 1st Floor City-County Building\, 555 S 10th St.\, Lincoln
END:VEVENT
BEGIN:VEVENT
DTSTART;TZID=UTC:20180430T173000
DTEND;TZID=UTC:20180430T200000
DTSTAMP:20260423T150034
CREATED:20180417T164736Z
LAST-MODIFIED:20180516T202753Z
UID:444-1525109400-1525118400@sterlinghillstha.org
SUMMARY:Special Permit No. 09022C Pubic Hearing
DESCRIPTION:City Council notice: Special Permit No. 09022C \nOn April 11\, 2018\, the Lincoln City-Lancaster County Planning Commission voted 7-0 to recommend conditional approval of the above-referenced special permit request\, which was included as part of the Consent Agenda. \nPlease be advised that both applications will be scheduled to appear on the City Council agenda for introduction on April 23\, 2018\, with public hearing scheduled for Monday\, April 30\, at 5:30 p.m.\, in Hearing Room 12 on the First Floor of the County-City Building\, 555 South 10th Street\, Lincoln\, Nebraska. \nView Full Notice of Special Permit
URL:https://sterlinghillstha.org/event/special-permit-no-09022c-pubic-hearing/
LOCATION:Hearing Room 112\, 1st Floor City-County Building\, 555 S 10th St.\, Lincoln
END:VEVENT
BEGIN:VEVENT
DTSTART;TZID=UTC:20180122T150000
DTEND;TZID=UTC:20180122T170000
DTSTAMP:20260423T150034
CREATED:20180105T165130Z
LAST-MODIFIED:20180105T165130Z
UID:432-1516633200-1516640400@sterlinghillstha.org
SUMMARY:Change of Zone 17036 Public Hearing
DESCRIPTION:180105-Change-of-Zone-No-17036
URL:https://sterlinghillstha.org/event/change-of-zone-17036-public-hearing/
LOCATION:Hearing Room 112\, 1st Floor City-County Building\, 555 S 10th St.\, Lincoln
END:VEVENT
BEGIN:VEVENT
DTSTART;TZID=UTC:20171230T130000
DTEND;TZID=UTC:20171230T170000
DTSTAMP:20260423T150034
CREATED:20171214T203426Z
LAST-MODIFIED:20171214T203721Z
UID:419-1514638800-1514653200@sterlinghillstha.org
SUMMARY:Public Hearing for Zone CZ17036
DESCRIPTION:The public hearing on this application will be held before the Lincoln City/Lancaster County Planning Commission on Wednesday\, December 20\, 2017. \nMore Details
URL:https://sterlinghillstha.org/event/public-hearing-for-zone-cz17036/
LOCATION:Hearing Room\, 1st Floor County-City Building\, 555 S 10th St.\, Lincoln
END:VEVENT
BEGIN:VEVENT
DTSTART;TZID=UTC:20171114T180000
DTEND;TZID=UTC:20171114T203000
DTSTAMP:20260423T150034
CREATED:20171102T200538Z
LAST-MODIFIED:20171106T200514Z
UID:385-1510682400-1510691400@sterlinghillstha.org
SUMMARY:Annual Sterling Hills THA Annual Meeting
DESCRIPTION:The Sterling Hills THA annual meeting is set for November 14\, 2017. Notice of the meeting is mailed 10 days before the meeting and will include an agenda\, financial reports\, and other important information pertaining to the meeting. \nMembers who want to have an item placed on the Agenda must notify the Board at least 20 days before the meeting in order to have the item on the agenda. Members wishing to speak in the Open Forum Discussion at the meeting must notify the Board in writing at least 3 days before the meeting in order for the Board to prepare. \nAll correspondence to the Board of Directors may be sent to the THA office address above. As an Association\, we are in the business of working toward the best management of services possible for our member’s; however\, we don’t do it alone and are always looking for those special people who add input at meetings and volunteer their time and service as officers of the Board. \nThe Board consist of three directors\, none of whom need to be members of the Corporation. Each Director holds office for three years and every year a Director is voted in. Meetings of the Board consist of a yearly meeting and any meeting called by the President during the year to conduct Association business. As the annual meeting draws near\, please consider being of service to this community and nominating someone or volunteering to be nominated as an officer of the Board. If you are interested in becoming a Board Member\, please notify the office or come to the annual meeting.
URL:https://sterlinghillstha.org/event/annual-sterling-hills-tha-annual-meeting/
LOCATION:Cavett Elementary School – Room 701A 7701 South 36th Street\, Lincoln\, NE 68516\, 7701 South 36th Street\, Lincoln
END:VEVENT
BEGIN:VEVENT
DTSTART;TZID=UTC:20171025T130000
DTEND;TZID=UTC:20171025T170000
DTSTAMP:20260423T150034
CREATED:20171013T152611Z
LAST-MODIFIED:20171013T152611Z
UID:379-1508936400-1508950800@sterlinghillstha.org
SUMMARY:Public hearing and proposed text revisions\, October 25\, 2017\, at 1:00 p.m
DESCRIPTION:TO: Neighborhood and Homeowner Association Contacts\nDevelopment Community Contacts \nAttached please find notice of public hearing and proposed text revisions for the above-referenced text amendment\, which is scheduled before the Planning Commission on Wednesday\, October 25\, 2017\, at 1:00 p.m.: \nTEXT AMENDMENT NO. 17001\, an ordinance amending Chapter 27.63 of the Lincoln Municipal Code relating to Special Permits by amending Section 27.63.685 to delete the access door location requirement\, and add exterior door opening requirements for a special permit for alcoholic beverages to be sold for consumption off the premises in zoning districts B-1\, B-3\, H-1\, H-2\, H-3\, H-4\, I-1\, and I-3\, and repealing Section 27.63.685 as hitherto existing. \nIf you have any questions regarding this text amendment\, please contact Brian Will at bwill@lincoln.ne.gov or 402-441-6362.
URL:https://sterlinghillstha.org/event/public-hearing-and-proposed-text-revisions-october-25-2017-at-100-p-m/
LOCATION:NE
END:VEVENT
BEGIN:VEVENT
DTSTART;TZID=UTC:20170927T130000
DTEND;TZID=UTC:20170927T150000
DTSTAMP:20260423T150034
CREATED:20170918T203350Z
LAST-MODIFIED:20170918T203524Z
UID:372-1506517200-1506524400@sterlinghillstha.org
SUMMARY:Annexation AN17011 Public Hearings
DESCRIPTION:Annexation-AN17011-40-Yankee-Hill
URL:https://sterlinghillstha.org/event/annexation-an17011/
LOCATION:Hearing Room 112\, 1st Floor City-County Building\, 555 S 10th St.\, Lincoln
END:VEVENT
BEGIN:VEVENT
DTSTART;VALUE=DATE:20170704
DTEND;VALUE=DATE:20170705
DTSTAMP:20260423T150034
CREATED:20170320T211345Z
LAST-MODIFIED:20170320T211553Z
UID:355-1499126400-1499212799@sterlinghillstha.org
SUMMARY:Refuse Pick-up Holiday
DESCRIPTION:Because of the holiday\, refuse pick-up days will be adjusted to the next day\, beginning on July 4th and ending on Saturday of that week.
URL:https://sterlinghillstha.org/event/refuse-pick-up-holiday/
LOCATION:NE
END:VEVENT
BEGIN:VEVENT
DTSTART;VALUE=DATE:20170520
DTEND;VALUE=DATE:20170521
DTSTAMP:20260423T150034
CREATED:20170320T211241Z
LAST-MODIFIED:20170320T211318Z
UID:353-1495238400-1495324799@sterlinghillstha.org
SUMMARY:SHTHA Clean-up Day
DESCRIPTION:A roll off dumpster will be located in the cul-de-sac all day Saturday for items to be thrown away.\nItems they will not take: batteries\, concrete\, paint & solvents\, motor oil\, herbicides\, appliances\, tires\, grass\, yard & garden waste.\nItems they will take: furniture\, mattresses & box springs\, household garbage.
URL:https://sterlinghillstha.org/event/shtha-clean-up-day/
LOCATION:NE
END:VEVENT
BEGIN:VEVENT
DTSTART;VALUE=DATE:20170511
DTEND;VALUE=DATE:20170514
DTSTAMP:20260423T150034
CREATED:20170320T210924Z
LAST-MODIFIED:20170320T210924Z
UID:351-1494460800-1494719999@sterlinghillstha.org
SUMMARY:Grainger O’Shea Garage Sales
DESCRIPTION:Mark your calendars now for the Grainger O’Shea Spring Garage Sales – May 11 – 13.\nSterling Hills THA no longer promotes garage sales in the community\, however the above dates will be a great opportunity should you want to plan a garage sale on your own and have it during this time to benefit from traffic generated by the Grainger O’Shea sales.
URL:https://sterlinghillstha.org/event/grainger-oshea-garage-sales/
LOCATION:NE
END:VEVENT
BEGIN:VEVENT
DTSTART;TZID=UTC:20161108T180000
DTEND;TZID=UTC:20161108T210000
DTSTAMP:20260423T150034
CREATED:20160927T185757Z
LAST-MODIFIED:20160927T185759Z
UID:292-1478628000-1478638800@sterlinghillstha.org
SUMMARY:Sterling Hills THA Annual Meeting
DESCRIPTION:
URL:https://sterlinghillstha.org/event/sterling-hills-tha-annual-meeting/
LOCATION:NE
END:VEVENT
END:VCALENDAR